BEGIN:VCALENDAR
VERSION:2.0
PRODID:-//Confucius Maastricht - ECPv6.15.12.2//NONSGML v1.0//EN
CALSCALE:GREGORIAN
METHOD:PUBLISH
X-ORIGINAL-URL:https://www.confuciusmaastricht.nl
X-WR-CALDESC:Evenementen voor Confucius Maastricht
REFRESH-INTERVAL;VALUE=DURATION:PT1H
X-Robots-Tag:noindex
X-PUBLISHED-TTL:PT1H
BEGIN:VTIMEZONE
TZID:Europe/Amsterdam
BEGIN:DAYLIGHT
TZOFFSETFROM:+0100
TZOFFSETTO:+0200
TZNAME:CEST
DTSTART:20230326T010000
END:DAYLIGHT
BEGIN:STANDARD
TZOFFSETFROM:+0200
TZOFFSETTO:+0100
TZNAME:CET
DTSTART:20231029T010000
END:STANDARD
BEGIN:DAYLIGHT
TZOFFSETFROM:+0100
TZOFFSETTO:+0200
TZNAME:CEST
DTSTART:20240331T010000
END:DAYLIGHT
BEGIN:STANDARD
TZOFFSETFROM:+0200
TZOFFSETTO:+0100
TZNAME:CET
DTSTART:20241027T010000
END:STANDARD
BEGIN:DAYLIGHT
TZOFFSETFROM:+0100
TZOFFSETTO:+0200
TZNAME:CEST
DTSTART:20250330T010000
END:DAYLIGHT
BEGIN:STANDARD
TZOFFSETFROM:+0200
TZOFFSETTO:+0100
TZNAME:CET
DTSTART:20251026T010000
END:STANDARD
END:VTIMEZONE
BEGIN:VEVENT
DTSTART;TZID=Europe/Amsterdam:20241130T103000
DTEND;TZID=Europe/Amsterdam:20241130T130000
DTSTAMP:20260421T161730
CREATED:20241029T091454Z
LAST-MODIFIED:20241104T123048Z
UID:8714-1732962600-1732971600@www.confuciusmaastricht.nl
SUMMARY:Rotterdam | Chinees kalligrafie workshop
DESCRIPTION:Duik in de prachtige wereld van Chinese kalligrafie tijdens deze workshop voor beginners! Deze cursus biedt een introductie tot Chinese kalligrafie\, een traditionele kunstvorm die schrijf- en schildertechnieken combineert om mooie karakters te creëren. \nWat je kunt verwachten: \n\nIntroductie tot Chinese kalligrafie: Leer over de materialen en hulpmiddelen die worden gebruikt in Chinese kalligrafie.\nVerschillende stijlen van Chinese kalligrafie: De docent presenteert twee of drie verschillende stijlen van Chinese kalligrafie.\nOefentijd: Tijd om zelf aan de slag te gaan met Chinese kalligrafie! Leer hoe je het penseel vasthoudt\, je stroken beheerst en stap voor stap basiskarakters vormt.\nMaak je eigen kalligrafiestuk: Aan het einde van de workshop maak je je eigen kalligrafiestukom mee naar huis te nemen!\n\nWorkshopdetails \nVoor wie:\nDeze workshop is perfect voor iedereen die de basis van Chinese kalligrafie wil leren; geen ervaring vereist. \nMaterialen:\nAlle materialen\, waaronder penselen\, inkt\, papier en oefenbladen\, worden voorzien. \nTaal van de workshop: \nEngels \nKoop een ticket
URL:https://www.confuciusmaastricht.nl/event/rotterdam-chinees-kalligrafie-workshop/
LOCATION:WMO radar Rotterdam\, Kipstraat 37\, Rotterdam\, Zuid Holland\, 3011 RS
CATEGORIES:Evenementen,Events
ATTACH;FMTTYPE=image/png:https://www.confuciusmaastricht.nl/wp-content/uploads/2024/08/2-7.png
END:VEVENT
END:VCALENDAR