BEGIN:VCALENDAR
VERSION:2.0
PRODID:-//Confucius Maastricht - ECPv6.15.12.2//NONSGML v1.0//EN
CALSCALE:GREGORIAN
METHOD:PUBLISH
X-ORIGINAL-URL:https://www.confuciusmaastricht.nl
X-WR-CALDESC:Evenementen voor Confucius Maastricht
REFRESH-INTERVAL;VALUE=DURATION:PT1H
X-Robots-Tag:noindex
X-PUBLISHED-TTL:PT1H
BEGIN:VTIMEZONE
TZID:Europe/Amsterdam
BEGIN:DAYLIGHT
TZOFFSETFROM:+0100
TZOFFSETTO:+0200
TZNAME:CEST
DTSTART:20230326T010000
END:DAYLIGHT
BEGIN:STANDARD
TZOFFSETFROM:+0200
TZOFFSETTO:+0100
TZNAME:CET
DTSTART:20231029T010000
END:STANDARD
BEGIN:DAYLIGHT
TZOFFSETFROM:+0100
TZOFFSETTO:+0200
TZNAME:CEST
DTSTART:20240331T010000
END:DAYLIGHT
BEGIN:STANDARD
TZOFFSETFROM:+0200
TZOFFSETTO:+0100
TZNAME:CET
DTSTART:20241027T010000
END:STANDARD
BEGIN:DAYLIGHT
TZOFFSETFROM:+0100
TZOFFSETTO:+0200
TZNAME:CEST
DTSTART:20250330T010000
END:DAYLIGHT
BEGIN:STANDARD
TZOFFSETFROM:+0200
TZOFFSETTO:+0100
TZNAME:CET
DTSTART:20251026T010000
END:STANDARD
END:VTIMEZONE
BEGIN:VEVENT
DTSTART;VALUE=DATE:20240817
DTEND;VALUE=DATE:20240901
DTSTAMP:20260421T214357
CREATED:20230911T122901Z
LAST-MODIFIED:20240530T103007Z
UID:5289-1723852800-1725148799@www.confuciusmaastricht.nl
SUMMARY:Zomerkamp in China 2024
DESCRIPTION:Onze zomerkamp zijn vol voor dit jaar. \nZomerkamp in China 2024!\nHoud je van avontuur? Nieuwe mensen leren kennen? En tegelijkertijd kennis te maken met een bijzondere taal en cultuur? Dan hebben wij de perfecte summer getaway voor jou. \nOpkomende zomer 2024 gaat ons zomerkamp weer van start! Een unieke ervaring om kennis te maken met China. Ga op reis en leer meer over de Chinese taal\, cultuur en maak kennis met de mensen. studeer aan onze partneruniversiteit in Dalian en bezoek Beijing en Chengdu met ons. Dompel jezelf 2 weken onder in het Chinese leven\, de Chinese taal & cultuur. Maak onderweg nieuwe vrienden\, bezoek bekende bezienswaardigheden en internationale organisaties en vergeet zeker niet te genieten van al het lekkere eten!   \nPlanning & organisatie\nDe zomerkamp zal plaatsvinden op 17 augustus tot 31 augustus 2024. Alle educatieve programma’s worden verzorgd door ervaren docenten en professoren.  \nVisum\nVanaf 1 december 2023 tot 30 november 2024 hebben Nederlandse paspoorthouders geen visum nodig om naar China te reizen. Zolang het verblijf niet langer is dan 15 dagen. Het zomerkamp duurt 2 weken (14 dagen)\, dus het zomerkamp van dit jaar is zeer bijzonder en toegankelijk voor alle Nederlandse paspoorthouders. Als je van plan bent om langer in China te verblijven na het zomerkamp\, vraag dan een visum aan\, aangezien dat langer dan 15 dagen zal zijn! \nKosten\nCIM studenten en alumni\nHet zomerkampprogramma is vrij van kosten* voor CIM studenten en CIM alumni. U kunt de CIM Summer Camp beurs rechtstreeks bij ons aanvragen. De beurs dekt het onderwijsprogramma\, het verblijf en het reisprogramma in Beijing\, Dalian of Shanghai.\n*Internationale vliegtickets en visa dienen zelf te worden bekostigd.   \nExterne studenten\nExterne studenten kunnen zich aanmelden voor CIM Summer Camp voor een duur van één tot drie weken in Beijing\, Dalian\, Chengdu en/of Shanghai. De kosten die verbonden zijn aan het programma variëren van ongeveer 400- 500 euro per week. De kosten dekken het hotel\, binnenlands vervoer\, het educatieve programma\, reisprogramma’s en bezoeken aan internationale organisaties*.\n*Internationale vliegtickets en visa dienen zelf te worden bekostigd. \nBelangrijk om te weten\n\nHelaas kunnen studenten die op onze zomerkamp 2023 zijn geweest\, niet meedoen aan de zomerkamp van 2024. Met deze maatregel zorgen we ervoor dat iedereen een kans heeft om naar China te gaan met ons!\nJe moet een HSK 2 examen certificaat of hoger hebben die nog geldig is.\nje bent tussen de 18-30 jaar oud\n\n  \nOnze zomerkamp is vol voor dit jaar. \n  \nAan de vermelde informatie op deze website kunnen geen rechten worden ontleend en wijzigingen/fouten zijn onder voorbehoud
URL:https://www.confuciusmaastricht.nl/event/zomerkamp-in-china-2024/
CATEGORIES:Evenementen,Events
ATTACH;FMTTYPE=image/png:https://www.confuciusmaastricht.nl/wp-content/uploads/2023/09/CIM-presents-2.png
END:VEVENT
END:VCALENDAR