BEGIN:VCALENDAR
VERSION:2.0
PRODID:-//Confucius Maastricht - ECPv6.15.12.2//NONSGML v1.0//EN
CALSCALE:GREGORIAN
METHOD:PUBLISH
X-ORIGINAL-URL:https://www.confuciusmaastricht.nl
X-WR-CALDESC:Evenementen voor Confucius Maastricht
REFRESH-INTERVAL;VALUE=DURATION:PT1H
X-Robots-Tag:noindex
X-PUBLISHED-TTL:PT1H
BEGIN:VTIMEZONE
TZID:Europe/Amsterdam
BEGIN:DAYLIGHT
TZOFFSETFROM:+0100
TZOFFSETTO:+0200
TZNAME:CEST
DTSTART:20230326T010000
END:DAYLIGHT
BEGIN:STANDARD
TZOFFSETFROM:+0200
TZOFFSETTO:+0100
TZNAME:CET
DTSTART:20231029T010000
END:STANDARD
BEGIN:DAYLIGHT
TZOFFSETFROM:+0100
TZOFFSETTO:+0200
TZNAME:CEST
DTSTART:20240331T010000
END:DAYLIGHT
BEGIN:STANDARD
TZOFFSETFROM:+0200
TZOFFSETTO:+0100
TZNAME:CET
DTSTART:20241027T010000
END:STANDARD
BEGIN:DAYLIGHT
TZOFFSETFROM:+0100
TZOFFSETTO:+0200
TZNAME:CEST
DTSTART:20250330T010000
END:DAYLIGHT
BEGIN:STANDARD
TZOFFSETFROM:+0200
TZOFFSETTO:+0100
TZNAME:CET
DTSTART:20251026T010000
END:STANDARD
END:VTIMEZONE
BEGIN:VEVENT
DTSTART;TZID=Europe/Amsterdam:20240705T170000
DTEND;TZID=Europe/Amsterdam:20240705T200000
DTSTAMP:20260421T231215
CREATED:20240530T102820Z
LAST-MODIFIED:20240531T103458Z
UID:7578-1720198800-1720209600@www.confuciusmaastricht.nl
SUMMARY:End of the year party
DESCRIPTION:Nu het semester bijna is afgelopen\, nodigen we je graag uit voor ons eindejaarsfeest! Net als in voorgaande jaren is deze viering een speciale gelegenheid voor alle CIM-studenten en alumni om samen te komen. We zullen genieten van leuke activiteiten\, reflecteren op onze leerreis Chinees\, en vooral\, samen een geweldige tijd hebben. Sluit je bij ons aan voor een onvergetelijke afsluiting van het semester en het schooljaar! \nHet einde van het feest zal plaatsvinden op 5 juli 2024 in de Zuyd Garden! Zie hieronder de details: \nPlaats: de Zuyd tuin\, Brusselseweg 150\, 6217 HB Maastricht\, Limburg \nDatum en tijd: 5 juli 2024\, vrijdag van 17:00-19:45 \nAls je wilt deelnemen\, registreer je dan hieronder zodat we kunnen inschatten hoeveel studenten/alumni zullen deelnemen: \nSelecteer een geldig formulier\nTot dan!
URL:https://www.confuciusmaastricht.nl/event/end-of-the-year-party/
LOCATION:Zuyd Hogeschool Garden\, Brusselseweg 150\, Maastricht\, 6217 HB\, Nederland
CATEGORIES:Evenementen,Events
ATTACH;FMTTYPE=image/png:https://www.confuciusmaastricht.nl/wp-content/uploads/2024/05/END-OF-THE-YEAR-PARTY-1-1.png
END:VEVENT
END:VCALENDAR