BEGIN:VCALENDAR
VERSION:2.0
PRODID:-//Confucius Maastricht - ECPv6.15.12.2//NONSGML v1.0//EN
CALSCALE:GREGORIAN
METHOD:PUBLISH
X-ORIGINAL-URL:https://www.confuciusmaastricht.nl
X-WR-CALDESC:Evenementen voor Confucius Maastricht
REFRESH-INTERVAL;VALUE=DURATION:PT1H
X-Robots-Tag:noindex
X-PUBLISHED-TTL:PT1H
BEGIN:VTIMEZONE
TZID:Europe/Amsterdam
BEGIN:DAYLIGHT
TZOFFSETFROM:+0100
TZOFFSETTO:+0200
TZNAME:CEST
DTSTART:20230326T010000
END:DAYLIGHT
BEGIN:STANDARD
TZOFFSETFROM:+0200
TZOFFSETTO:+0100
TZNAME:CET
DTSTART:20231029T010000
END:STANDARD
BEGIN:DAYLIGHT
TZOFFSETFROM:+0100
TZOFFSETTO:+0200
TZNAME:CEST
DTSTART:20240331T010000
END:DAYLIGHT
BEGIN:STANDARD
TZOFFSETFROM:+0200
TZOFFSETTO:+0100
TZNAME:CET
DTSTART:20241027T010000
END:STANDARD
BEGIN:DAYLIGHT
TZOFFSETFROM:+0100
TZOFFSETTO:+0200
TZNAME:CEST
DTSTART:20250330T010000
END:DAYLIGHT
BEGIN:STANDARD
TZOFFSETFROM:+0200
TZOFFSETTO:+0100
TZNAME:CET
DTSTART:20251026T010000
END:STANDARD
END:VTIMEZONE
BEGIN:VEVENT
DTSTART;TZID=Europe/Amsterdam:20240414T090000
DTEND;TZID=Europe/Amsterdam:20240414T123000
DTSTAMP:20260422T042227
CREATED:20240313T132407Z
LAST-MODIFIED:20240313T132523Z
UID:7175-1713085200-1713097800@www.confuciusmaastricht.nl
SUMMARY:Authentieke Chinese Thee Ceremonie -Lente Editie-
DESCRIPTION:Als gevolg van een succesvolle theeceremonie vorig jaar tijdens onze Welzijnsmaand presenteren wij een nieuwe authentieke Chinese theeceremonie! Dit keer gaan we kijken naar de theeën die perfect zijn voor in de lente. De theeën worden geserveerd in een traditionele theeceremonie. Verwen jezelf en geniet van de geuren en smaken die thee ons brengt. Laat je onderdompelen in een rijke ervaring op de prachtige en exclusieve locatie van The International Butler Academy in Simpelveld. \nTijdens de ceremonie zul je verschillende smaken thee proeven\, geserveerd in een gezellige en intieme setting. We zullen samen van de thee genieten en praten over zijn gezondheidsvoordelen. We kunnen niet wachten om dit belangrijke deel van de Chinese cultuur met jou te delen! \nHoe ziet de thee ceremonie eruit? \nWe beginnen met een korte introductie over thee\, wat zijn de gezondheidsvoordelen\, waarom drinken we het\, wat zijn de verschillende thee soorten en wat voor verschil maakt het? \nDaarna zullen we verdergaan met een traditionele Chinese thee ceremonie\, waarin we van de verschillende thee genieten. Niet alleen leer je hoe je je thee moet voorbereiden en wat de gezondheidsvoordelen zijn\, je leert ook hoe een thee ceremonie in elkaar zit! \n  \nTijdvakken \nDit evenement staat open voor iedereen! Het zal plaatsvinden op 14 April2024 . Tijdens het evenement zijn er twee tijdvakken: \nTijdvak 1: 10:00u – 11:00u \nTijdvak 2: 11:30u – 12:30u \n  \nPlaats \nThe International Butler Academy \nPater Damiaanstraat 38\, 6369 SV Simpelveld \nNOTE: Locatie kan altijd nog veranderen\, u zult dan op tijd op de hoogte gehouden worden. \nReserveer Tickets
URL:https://www.confuciusmaastricht.nl/event/authentieke-chinese-thee-ceremonie-lente-editie/
LOCATION:The International Butler Academy\, Pater Damiaanstraat 38\, Simpelveld\, Limburg\, 6369 SV\, Nederland
CATEGORIES:Evenementen,Events
ATTACH;FMTTYPE=image/png:https://www.confuciusmaastricht.nl/wp-content/uploads/2024/03/Chinese-Traditional-Tea-Ceremony-2.png
END:VEVENT
BEGIN:VEVENT
DTSTART;TZID=Europe/Amsterdam:20240425T190000
DTEND;TZID=Europe/Amsterdam:20240425T203000
DTSTAMP:20260422T042227
CREATED:20240328T133729Z
LAST-MODIFIED:20240402T131809Z
UID:7296-1714071600-1714077000@www.confuciusmaastricht.nl
SUMMARY:Chinees traditioneel instrumenteel optreden
DESCRIPTION:CIM-studenten en alumni kunnen de voorstelling gratis bekijken\, neem 1 vriend/famielid gratis mee! Als je CIM alumni/student bent\, mail ons dan je naam en de naam van je vriend/familielid\, we registreren je dan gratis! \nOp 25 april speelt een traditionele band uit China traditionele Chinese muziekinstrumenten\, zoals het snaarinstrument Guqin en de Xiao-fluit. Ze spelen prachtige liedjes die te maken hebben met Chinese klassieke poëzie. Luister naar de harmonie van verschillende traditionele Chinese instrumenten en dompel jezelf onder in de rijke Chinese geschiedenis door middel van de universele taal: muziek. \nHet optreden vind plaats in het mooie Cellebroerderskapel in Maastricht. \nAdres: Cellebroedersstraat 4\, 6211 PK Maastricht \nDatum: 25 april 2024 \nTijd: 18:45 – 20:30 \nEntreetickets
URL:https://www.confuciusmaastricht.nl/event/chinees-traditioneel-instrumenteel-optreden/
LOCATION:Cellebroerderskapel\, Cellebroedersstraat 4\, Maastricht\, Limburg\, 6211 PK\, Nederland
CATEGORIES:Evenementen,Events
ATTACH;FMTTYPE=image/jpeg:https://www.confuciusmaastricht.nl/wp-content/uploads/2024/03/WhatsApp-Image-2024-03-29-at-10.34.38-AM-e1712042408340.jpeg
END:VEVENT
END:VCALENDAR