BEGIN:VCALENDAR
VERSION:2.0
PRODID:-//Confucius Maastricht - ECPv6.15.12.2//NONSGML v1.0//EN
CALSCALE:GREGORIAN
METHOD:PUBLISH
X-ORIGINAL-URL:https://www.confuciusmaastricht.nl
X-WR-CALDESC:Evenementen voor Confucius Maastricht
REFRESH-INTERVAL;VALUE=DURATION:PT1H
X-Robots-Tag:noindex
X-PUBLISHED-TTL:PT1H
BEGIN:VTIMEZONE
TZID:Europe/Amsterdam
BEGIN:DAYLIGHT
TZOFFSETFROM:+0100
TZOFFSETTO:+0200
TZNAME:CEST
DTSTART:20230326T010000
END:DAYLIGHT
BEGIN:STANDARD
TZOFFSETFROM:+0200
TZOFFSETTO:+0100
TZNAME:CET
DTSTART:20231029T010000
END:STANDARD
BEGIN:DAYLIGHT
TZOFFSETFROM:+0100
TZOFFSETTO:+0200
TZNAME:CEST
DTSTART:20240331T010000
END:DAYLIGHT
BEGIN:STANDARD
TZOFFSETFROM:+0200
TZOFFSETTO:+0100
TZNAME:CET
DTSTART:20241027T010000
END:STANDARD
BEGIN:DAYLIGHT
TZOFFSETFROM:+0100
TZOFFSETTO:+0200
TZNAME:CEST
DTSTART:20250330T010000
END:DAYLIGHT
BEGIN:STANDARD
TZOFFSETFROM:+0200
TZOFFSETTO:+0100
TZNAME:CET
DTSTART:20251026T010000
END:STANDARD
END:VTIMEZONE
BEGIN:VEVENT
DTSTART;TZID=Europe/Amsterdam:20240118T160000
DTEND;TZID=Europe/Amsterdam:20240118T180000
DTSTAMP:20260422T093316
CREATED:20231220T140416Z
LAST-MODIFIED:20231220T140416Z
UID:6455-1705593600-1705600800@www.confuciusmaastricht.nl
SUMMARY:Game Night New Years Resolution
DESCRIPTION:Nieuw jaar\, nieuwe voornemens! Denk je nog na over geschikte voornemens voor het nieuwe jaar? Wat dacht je van het leren of verbeteren van je Chinees? 📚 Kom en doe mee met onze Spelletjesavond\, een evenement dat entertainment combineert met de spirit van het nieuwe jaar. We hebben ook gelukskoekjes voor je\, zodat je kunt zien hoe jouw 2024 eruit zal zien! \nDatum: Donderdag\, 18 januari 2023\nTijd: van 16.00 tot 18.00 uur\nLocatie: Kamer BR.B.17 op Zuyd Brusselseweg 150\, Maastricht \nWe hebben assortiment aan boeiende bordspellen\, kaartspellen\, zodat iedereen iets vindt waar hij van geniet. Of je kunt deelnemen aan onze spellen waarbij we de Chinese taal zullen gebruiken! \nWil je meedoen? Vul dan dit formulier in\, zodat we weten hoeveel mensen aanwezig zullen zijn! \nSelecteer een geldig formulier
URL:https://www.confuciusmaastricht.nl/event/game-night-new-years-resolution/
LOCATION:ZUYD Brusselseweg BR.B17\, Brusselseweg 150\, Maastricht\, Limburg\, 6217HB\, Netherlands
CATEGORIES:Evenementen,Events
ATTACH;FMTTYPE=image/png:https://www.confuciusmaastricht.nl/wp-content/uploads/2023/12/Game-night-new-year.png
END:VEVENT
END:VCALENDAR