BEGIN:VCALENDAR
VERSION:2.0
PRODID:-//Confucius Maastricht - ECPv6.15.12.2//NONSGML v1.0//EN
CALSCALE:GREGORIAN
METHOD:PUBLISH
X-WR-CALNAME:Confucius Maastricht
X-ORIGINAL-URL:https://www.confuciusmaastricht.nl
X-WR-CALDESC:Evenementen voor Confucius Maastricht
REFRESH-INTERVAL;VALUE=DURATION:PT1H
X-Robots-Tag:noindex
X-PUBLISHED-TTL:PT1H
BEGIN:VTIMEZONE
TZID:Europe/Amsterdam
BEGIN:DAYLIGHT
TZOFFSETFROM:+0100
TZOFFSETTO:+0200
TZNAME:CEST
DTSTART:20220327T010000
END:DAYLIGHT
BEGIN:STANDARD
TZOFFSETFROM:+0200
TZOFFSETTO:+0100
TZNAME:CET
DTSTART:20221030T010000
END:STANDARD
BEGIN:DAYLIGHT
TZOFFSETFROM:+0100
TZOFFSETTO:+0200
TZNAME:CEST
DTSTART:20230326T010000
END:DAYLIGHT
BEGIN:STANDARD
TZOFFSETFROM:+0200
TZOFFSETTO:+0100
TZNAME:CET
DTSTART:20231029T010000
END:STANDARD
BEGIN:DAYLIGHT
TZOFFSETFROM:+0100
TZOFFSETTO:+0200
TZNAME:CEST
DTSTART:20240331T010000
END:DAYLIGHT
BEGIN:STANDARD
TZOFFSETFROM:+0200
TZOFFSETTO:+0100
TZNAME:CET
DTSTART:20241027T010000
END:STANDARD
END:VTIMEZONE
BEGIN:VEVENT
DTSTART;TZID=Europe/Amsterdam:20231211T100000
DTEND;TZID=Europe/Amsterdam:20231211T120000
DTSTAMP:20260422T110659
CREATED:20231130T103039Z
LAST-MODIFIED:20231130T103039Z
UID:6258-1702288800-1702296000@www.confuciusmaastricht.nl
SUMMARY:Film ‘The Farewell’ bij Lumière
DESCRIPTION:Wil je ontspannen en een film kijken terwijl je meer leert over de Chinese taal en cultuur? Kom met ons mee en kijk naar “The Farewell” bij Lumière Maastricht! The Farewell vertelt een ontroerend verhaal over een Chinees-Amerikaanse vrouw die terugkeert naar China nadat haar geliefde oma is gediagnosticeerd met terminale kanker. Verscheurd tussen twee culturen worstelt ze met de beslissing van haar familie om oma in het ongewisse te laten over haar eigen ziekte\, terwijl ze allemaal een spontane bruiloft organiseren om oma nog een laatste keer te zien. Benieuwd naar hoe het verhaal afloopt? Meld je nu aan en kom GRATIS mee aan de film! \nInformatie: \n\n11 december maandag\n10:00-12:00 (ochtend)\nBassin 88\, 6211 AK Maastricht\nGratis toegang\n\nSelecteer een geldig formulier
URL:https://www.confuciusmaastricht.nl/event/film-the-farewell-bij-lumiere/
LOCATION:Lumière Maastricht\, Bassin 88\,\, Maastricht\, 6211 AK\, Nederland
CATEGORIES:Evenementen,Events
ATTACH;FMTTYPE=image/png:https://www.confuciusmaastricht.nl/wp-content/uploads/2023/11/Screenshot_6.png
END:VEVENT
END:VCALENDAR