BEGIN:VCALENDAR
VERSION:2.0
PRODID:-//Confucius Maastricht - ECPv6.15.12.2//NONSGML v1.0//EN
CALSCALE:GREGORIAN
METHOD:PUBLISH
X-ORIGINAL-URL:https://www.confuciusmaastricht.nl
X-WR-CALDESC:Evenementen voor Confucius Maastricht
REFRESH-INTERVAL;VALUE=DURATION:PT1H
X-Robots-Tag:noindex
X-PUBLISHED-TTL:PT1H
BEGIN:VTIMEZONE
TZID:Europe/Amsterdam
BEGIN:DAYLIGHT
TZOFFSETFROM:+0100
TZOFFSETTO:+0200
TZNAME:CEST
DTSTART:20220327T010000
END:DAYLIGHT
BEGIN:STANDARD
TZOFFSETFROM:+0200
TZOFFSETTO:+0100
TZNAME:CET
DTSTART:20221030T010000
END:STANDARD
BEGIN:DAYLIGHT
TZOFFSETFROM:+0100
TZOFFSETTO:+0200
TZNAME:CEST
DTSTART:20230326T010000
END:DAYLIGHT
BEGIN:STANDARD
TZOFFSETFROM:+0200
TZOFFSETTO:+0100
TZNAME:CET
DTSTART:20231029T010000
END:STANDARD
BEGIN:DAYLIGHT
TZOFFSETFROM:+0100
TZOFFSETTO:+0200
TZNAME:CEST
DTSTART:20240331T010000
END:DAYLIGHT
BEGIN:STANDARD
TZOFFSETFROM:+0200
TZOFFSETTO:+0100
TZNAME:CET
DTSTART:20241027T010000
END:STANDARD
END:VTIMEZONE
BEGIN:VEVENT
DTSTART;TZID=Europe/Amsterdam:20231119T100000
DTEND;TZID=Europe/Amsterdam:20231119T120000
DTSTAMP:20260422T122814
CREATED:20231011T094511Z
LAST-MODIFIED:20231011T110246Z
UID:5600-1700388000-1700395200@www.confuciusmaastricht.nl
SUMMARY:Authentieke Chinese Thee Ceremonie
DESCRIPTION:Ter ere van onze Welzijnsmaand presenteren wij onze authentieke Chinese theeceremonie! Probeer allerlei soorten Chinese thee\, geserveerd in een traditionele theeceremonie. Verwen jezelf en geniet van de geuren en smaken die thee ons brengt. Laat je onderdompelen in een rijke ervaring op de prachtige en exclusieve locatie van The International Butler Academy in Simpelveld. \nTijdens de ceremonie zul je verschillende smaken thee proeven\, geserveerd in een gezellige en intieme setting. We zullen samen van de thee genieten en praten over de gezondheidsvoordelen. We kunnen niet wachten om dit belangrijke deel van de Chinese cultuur met jou te delen en je meer te vertellen over thee! \nHoe ziet de thee ceremonie eruit? \nWe beginnen met een korte introductie over thee\, wat zijn de gezondheidsvoordelen\, waarom drinken we het\, wat zijn de verschillende thee soorten en wat voor verschil maakt het? \nDaarna zullen we verdergaan met een traditionele Chinese thee ceremonie\, waarin we van de verschillende thee genieten. Niet alleen leer je hoe je je thee moet voorbereiden en wat de gezondheidsvoordelen zijn\, je leert ook hoe een thee ceremonie in elkaar zit! \nTijdvakken en plaats \nDit evenement staat open voor iedereen! Het zal plaatsvinden op 19 november. Tijdens het evenement zijn er twee tijdvakken: \nTijdvak 1: 10:00u – 11:00u \nTijdvak 2: 11:00u – 12:00u \nAdres: Pater Damiaanstraat 38\, 6369 SV Simpelveld \nKosten \nDe kosten voor dit evenement bedragen €29\,95 (thee en materialen inbegrepen). Er zijn slechts een beperkt aantal plekken beschikbaar\, dus zorg ervoor dat je je op tijd inschrijft! \nReserveer
URL:https://www.confuciusmaastricht.nl/event/authentieke-chinese-thee-ceremonie/
LOCATION:The International Butler Academy\, Pater Damiaanstraat 38\, Simpelveld\, Limburg\, 6369 SV\, Nederland
CATEGORIES:Events
ATTACH;FMTTYPE=image/png:https://www.confuciusmaastricht.nl/wp-content/uploads/2023/10/teeceremony.png
END:VEVENT
END:VCALENDAR