BEGIN:VCALENDAR
VERSION:2.0
PRODID:-//Confucius Maastricht - ECPv6.15.12.2//NONSGML v1.0//EN
CALSCALE:GREGORIAN
METHOD:PUBLISH
X-ORIGINAL-URL:https://www.confuciusmaastricht.nl
X-WR-CALDESC:Evenementen voor Confucius Maastricht
REFRESH-INTERVAL;VALUE=DURATION:PT1H
X-Robots-Tag:noindex
X-PUBLISHED-TTL:PT1H
BEGIN:VTIMEZONE
TZID:Europe/Amsterdam
BEGIN:DAYLIGHT
TZOFFSETFROM:+0100
TZOFFSETTO:+0200
TZNAME:CEST
DTSTART:20220327T010000
END:DAYLIGHT
BEGIN:STANDARD
TZOFFSETFROM:+0200
TZOFFSETTO:+0100
TZNAME:CET
DTSTART:20221030T010000
END:STANDARD
BEGIN:DAYLIGHT
TZOFFSETFROM:+0100
TZOFFSETTO:+0200
TZNAME:CEST
DTSTART:20230326T010000
END:DAYLIGHT
BEGIN:STANDARD
TZOFFSETFROM:+0200
TZOFFSETTO:+0100
TZNAME:CET
DTSTART:20231029T010000
END:STANDARD
BEGIN:DAYLIGHT
TZOFFSETFROM:+0100
TZOFFSETTO:+0200
TZNAME:CEST
DTSTART:20240331T010000
END:DAYLIGHT
BEGIN:STANDARD
TZOFFSETFROM:+0200
TZOFFSETTO:+0100
TZNAME:CET
DTSTART:20241027T010000
END:STANDARD
END:VTIMEZONE
BEGIN:VEVENT
DTSTART;TZID=Europe/Amsterdam:20230512T143000
DTEND;TZID=Europe/Amsterdam:20230512T163000
DTSTAMP:20260422T211321
CREATED:20230427T084915Z
LAST-MODIFIED:20230511T132255Z
UID:4657-1683901800-1683909000@www.confuciusmaastricht.nl
SUMMARY:Chinese schilderworkshop
DESCRIPTION:Laat je creativiteit de vrije loop met onze workshop Chinees schilderen! \nBen je op zoek naar een leuke en creatieve manier om jezelf uit te drukken? Doe dan mee aan onze workshop Chinees schilderen en ontdek de eeuwenoude Chinese schilderkunst. We organiseren deze workshop in het teken van de internationale Dag van de Chinese taal die dit jaar op 20 april 2023 werd gevierd.  Een dag die specifiek de Chinese taal en haar culturele en historische betekenis viert. \nIn deze workshop leer je de fundamentele technieken van het Chinese schilderen\, waaronder penseelstreken\, inktspoelingen en kleurmenging. Onze ervaren instructeur begeleidt u door het proces en helpt u uw eigen unieke meesterwerk te creëren. \nErvaring is niet vereist. Deze workshop is geschikt voor iedereen die zijn creatieve kant wil verkennen. Je zult je geïnspireerd en gesterkt voelen om je artistieke reis voort te zetten. \nWij vragen voor deze workshop slechts een kleine bijdrage van 5 euro\, alle materialen worden verstrekt\, inclusief penselen\, inkt en rijstpapier. \nHet is niet langer mogelijk een ticket te kopen voor deze workshop. Houd onze evenementenpagina in de gaten voor toekomstige evenementen en workshops.
URL:https://www.confuciusmaastricht.nl/event/chinese-schilderworkshop/
LOCATION:Confucius Instituut Maastricht\, Brusselseweg 150\, Maastricht\, 6217 HB
CATEGORIES:Events
ATTACH;FMTTYPE=image/png:https://www.confuciusmaastricht.nl/wp-content/uploads/2023/04/Chinese-language-day--e1682585986586.png
END:VEVENT
END:VCALENDAR