BEGIN:VCALENDAR
VERSION:2.0
PRODID:-//Confucius Maastricht - ECPv6.15.12.2//NONSGML v1.0//EN
CALSCALE:GREGORIAN
METHOD:PUBLISH
X-ORIGINAL-URL:https://www.confuciusmaastricht.nl
X-WR-CALDESC:Evenementen voor Confucius Maastricht
REFRESH-INTERVAL;VALUE=DURATION:PT1H
X-Robots-Tag:noindex
X-PUBLISHED-TTL:PT1H
BEGIN:VTIMEZONE
TZID:Europe/Amsterdam
BEGIN:DAYLIGHT
TZOFFSETFROM:+0100
TZOFFSETTO:+0200
TZNAME:CEST
DTSTART:20220327T010000
END:DAYLIGHT
BEGIN:STANDARD
TZOFFSETFROM:+0200
TZOFFSETTO:+0100
TZNAME:CET
DTSTART:20221030T010000
END:STANDARD
BEGIN:DAYLIGHT
TZOFFSETFROM:+0100
TZOFFSETTO:+0200
TZNAME:CEST
DTSTART:20230326T010000
END:DAYLIGHT
BEGIN:STANDARD
TZOFFSETFROM:+0200
TZOFFSETTO:+0100
TZNAME:CET
DTSTART:20231029T010000
END:STANDARD
BEGIN:DAYLIGHT
TZOFFSETFROM:+0100
TZOFFSETTO:+0200
TZNAME:CEST
DTSTART:20240331T010000
END:DAYLIGHT
BEGIN:STANDARD
TZOFFSETFROM:+0200
TZOFFSETTO:+0100
TZNAME:CET
DTSTART:20241027T010000
END:STANDARD
END:VTIMEZONE
BEGIN:VEVENT
DTSTART;TZID=Europe/Amsterdam:20230129T123000
DTEND;TZID=Europe/Amsterdam:20230129T150000
DTSTAMP:20260423T033244
CREATED:20230125T090411Z
LAST-MODIFIED:20230125T090411Z
UID:4072-1674995400-1675004400@www.confuciusmaastricht.nl
SUMMARY:Chinees Nieuwjaar viering
DESCRIPTION:Om het Chinese Nieuwjaar te vieren organiseren wij op 29 januari aanstaande\, samen met Amazing Oriental Maastricht verschillende traditionele culturele activiteiten waaraan iedereen kan deelnemen! Kom kijken naar een echte leeuwendans\, oefen met Chinese kalligrafie\, neem deel aan een mini workshop nieuwjaarsschilderkunst en  vergeet zeker niet een potje te shuttleschoppen! \nDe viering begint op 29 januari om 12.30 uur bij Amazing Oriental Maastricht (Laag Gubbelstraat 38\, 6211 CG Maastricht). We kijken ernaar uit om je te zien! Een fantastisch 2023 gewenst! 兔年快乐！
URL:https://www.confuciusmaastricht.nl/event/chinees-nieuwjaar-viering/
LOCATION:Amazing Oriental Maastricht\, Laag Gubbelstraat 38\, Maastricht\, 6211 CG
CATEGORIES:Events
ATTACH;FMTTYPE=image/png:https://www.confuciusmaastricht.nl/wp-content/uploads/2023/01/Lion-dance-post-e1674637435374.png
END:VEVENT
END:VCALENDAR